BEGIN:VCALENDAR
VERSION:2.0
PRODID:-//Bradeur.fr//FR
CALSCALE:GREGORIAN
METHOD:PUBLISH
BEGIN:VEVENT
UID:678-evin-sion-fantaisie-puces@bradeur.fr
DTSTAMP:20260425T205332Z
DTSTART:20260412T090000
DTEND:20260412T160000
SUMMARY:Evin'sion Fantaisie — Puces
DESCRIPTION:Dimanche 12 Avril 2026\nde 9h00 à 16h00\n\nEvin'sion Fantaisie
 \n62141 Evin Malmaison
LOCATION:62141 Evin Malmaison
URL:https://bradeur.fr/braderie.php?slug=evin-sion-fantaisie-puces
END:VEVENT
END:VCALENDAR
