BEGIN:VCALENDAR
VERSION:2.0
PRODID:-//Bradeur.fr//FR
CALSCALE:GREGORIAN
METHOD:PUBLISH
BEGIN:VEVENT
UID:545-familiale-puces@bradeur.fr
DTSTAMP:20260425T175858Z
DTSTART:20260328T090000
DTEND:20260328T170000
SUMMARY:Familiale — Puces
DESCRIPTION:Samedi 28 Mars 2026\nde 9h00 à 17h00\n\nFamiliale\n62218 Loiso
 n Sous Lens
LOCATION:62218 Loison Sous Lens
URL:https://bradeur.fr/braderie.php?slug=familiale-puces
END:VEVENT
END:VCALENDAR
