BEGIN:VCALENDAR
VERSION:2.0
PRODID:-//Bradeur.fr//FR
CALSCALE:GREGORIAN
METHOD:PUBLISH
BEGIN:VEVENT
UID:712-fcpe-enfant-a-beuvry@bradeur.fr
DTSTAMP:20260425T180016Z
DTSTART:20260419T073000
DTEND:20260419T170000
SUMMARY:Fcpe Enfant à Beuvry
DESCRIPTION:Dimanche 19 Avril 2026\nde 7h30 à 17h00\n\n62660 Beuvry
LOCATION:62660 Beuvry
URL:https://bradeur.fr/braderie.php?slug=fcpe-enfant-a-beuvry
END:VEVENT
END:VCALENDAR
