BEGIN:VCALENDAR
VERSION:2.0
PRODID:-//Bradeur.fr//FR
CALSCALE:GREGORIAN
METHOD:PUBLISH
BEGIN:VEVENT
UID:795-festicoulogne-brocante@bradeur.fr
DTSTAMP:20260426T032625Z
DTSTART:20260503T073000
DTEND:20260503T180000
SUMMARY:FestiCoulogne — Brocante
DESCRIPTION:Coulogne Ville & Nature Facebook Envelope Search … résultats
  Voir tous les résultats L’actualité à Coulogne Retrouvez ici les dern
 ières actualités de la commune : événements, projets, initiatives local
 es… Suivez ce qui anime Coulogne et participez à la vie de votre ville !
  Voir toutes les actualités Les artistes de La Petite Ecole des… Publié
  […]\n\nDimanche 3 Mai 2026\nde 7h30 à 18h00\n\nFestiCoulogne
LOCATION:62137 Coulogne
URL:https://bradeur.fr/braderie.php?slug=festicoulogne-brocante
END:VEVENT
END:VCALENDAR
