BEGIN:VCALENDAR
VERSION:2.0
PRODID:-//Bradeur.fr//FR
CALSCALE:GREGORIAN
METHOD:PUBLISH
BEGIN:VEVENT
UID:621-fifties-club-fifties-club-disque@bradeur.fr
DTSTAMP:20260425T180840Z
DTSTART:20260406T100000
DTEND:20260406T170000
SUMMARY:Fifties club — Fifties Club Disque
DESCRIPTION:Actualités\n\n&nbsp;&nbsp;&nbsp;&nbsp;&nbsp;&nbsp;\n\nDécouvr
 ezles actus à la une !\n\n{loadmoduleid 690}\n\n{loadmoduleid 801}\n\nVoir
  toutes les actualit\n\nLundi 6 Avril 2026\nde 10h00 à 17h00\n\nFifties cl
 ub\n59700 Marcq En Baroeul
LOCATION:59700 Marcq En Baroeul
URL:https://bradeur.fr/braderie.php?slug=fifties-club-fifties-club-disque
END:VEVENT
END:VCALENDAR
