BEGIN:VCALENDAR
VERSION:2.0
PRODID:-//Bradeur.fr//FR
CALSCALE:GREGORIAN
METHOD:PUBLISH
BEGIN:VEVENT
UID:483-fmbc-fort-mardyck-basket-club-brocante@bradeur.fr
DTSTAMP:20260425T143443Z
DTSTART:20260314T090000
DTEND:20260314T170000
SUMMARY:FMBC Fort Mardyck Basket Club — Brocante
DESCRIPTION:Samedi 14 Mars 2026\nde 9h00 à 17h00\n\nFMBC Fort Mardyck Bask
 et Club\n59430 Fort Mardyck
LOCATION:59430 Fort Mardyck
URL:https://bradeur.fr/braderie.php?slug=fmbc-fort-mardyck-basket-club-broc
 ante
END:VEVENT
END:VCALENDAR
