BEGIN:VCALENDAR
VERSION:2.0
PRODID:-//Bradeur.fr//FR
CALSCALE:GREGORIAN
METHOD:PUBLISH
BEGIN:VEVENT
UID:1002-fontifetes-brocante@bradeur.fr
DTSTAMP:20260426T032032Z
DTSTART:20260705T080000
DTEND:20260705T173000
SUMMARY:Fontifetes — Brocante
DESCRIPTION:Dimanche 5 Juillet 2026\nde 8h00 à 17h30\n\nFontifetes\n62510 
 Arques
LOCATION:62510 Arques
URL:https://bradeur.fr/braderie.php?slug=fontifetes-brocante
END:VEVENT
END:VCALENDAR
