BEGIN:VCALENDAR
VERSION:2.0
PRODID:-//Bradeur.fr//FR
CALSCALE:GREGORIAN
METHOD:PUBLISH
BEGIN:VEVENT
UID:801-futsal-club-noeuxois-puces@bradeur.fr
DTSTAMP:20260426T022910Z
DTSTART:20260503T080000
DTEND:20260503T180000
SUMMARY:Futsal Club Noeuxois — Puces
DESCRIPTION:Bienvenue sur le site officiel du club Amicale Futsal Club Noeu
 xois. Retrouvez toute l'actualité, le calendrier et les résultats des éq
 uipes, ainsi que toute la vie du club.\n\nDimanche 3 Mai 2026\nde 8h00 à 1
 8h00\n\nFutsal Club Noeuxois\n62290 Noeux Les Mines
LOCATION:62290 Noeux Les Mines
URL:https://bradeur.fr/braderie.php?slug=futsal-club-noeuxois-puces
END:VEVENT
END:VCALENDAR
