BEGIN:VCALENDAR
VERSION:2.0
PRODID:-//Bradeur.fr//FR
CALSCALE:GREGORIAN
METHOD:PUBLISH
BEGIN:VEVENT
UID:1146-gcrt-groupement-des-cadres-de-reserve-de-tourcoing-gcrt-militaria@
 bradeur.fr
DTSTAMP:20260425T181003Z
DTSTART:20261213T080000
DTEND:20261213T140000
SUMMARY:GCRT Groupement des Cadres de Réserve de Tourcoing — Gcrt Milita
 ria
DESCRIPTION:Dimanche 13 Décembre 2026\nde 8h00 à 14h00\n\nGCRT Groupement
  des Cadres de Réserve de Tourcoing\n59200 Tourcoing
LOCATION:59200 Tourcoing
URL:https://bradeur.fr/braderie.php?slug=gcrt-groupement-des-cadres-de-rese
 rve-de-tourcoing-gcrt-militaria
END:VEVENT
END:VCALENDAR
