BEGIN:VCALENDAR
VERSION:2.0
PRODID:-//Bradeur.fr//FR
CALSCALE:GREGORIAN
METHOD:PUBLISH
BEGIN:VEVENT
UID:898-groupe-culbuteurs-et-chromes-culbuteurs-chromes-pentecote-auto@brad
 eur.fr
DTSTAMP:20260426T024910Z
DTSTART:20260524T100000
DTEND:20260524T180000
SUMMARY:Groupe Culbuteurs et Chromes — Culbuteurs Chromes Pentecote Auto
DESCRIPTION:Dimanche 24 Mai 2026\nde 10h00 à 18h00\n\nGroupe Culbuteurs et
  Chromes\n62182 Riencourt Les Cagnicourt
LOCATION:62182 Riencourt Les Cagnicourt
URL:https://bradeur.fr/braderie.php?slug=groupe-culbuteurs-et-chromes-culbu
 teurs-chromes-pentecote-auto
END:VEVENT
END:VCALENDAR
