BEGIN:VCALENDAR
VERSION:2.0
PRODID:-//Bradeur.fr//FR
CALSCALE:GREGORIAN
METHOD:PUBLISH
BEGIN:VEVENT
UID:589-gsa95430manifestations-gmail-com-gsa-enfant@bradeur.fr
DTSTAMP:20260425T180507Z
DTSTART:20260329T083000
DTEND:20260329T170000
SUMMARY:gsa95430manifestations@gmail.com — Gsa Enfant
DESCRIPTION:Site de la ville d'Auvers-sur-Oise\n\nDimanche 29 Mars 2026\nde
  8h30 à 17h00\n\ngsa95430manifestations@gmail.com\n95430 Auvers Sur Oise
LOCATION:95430 Auvers Sur Oise
URL:https://bradeur.fr/braderie.php?slug=gsa95430manifestations-gmail-com-g
 sa-enfant
END:VEVENT
END:VCALENDAR
