BEGIN:VCALENDAR
VERSION:2.0
PRODID:-//Bradeur.fr//FR
CALSCALE:GREGORIAN
METHOD:PUBLISH
BEGIN:VEVENT
UID:800-h-a-d-douvrin-bourse-collections@bradeur.fr
DTSTAMP:20260426T031915Z
DTSTART:20260503T090000
DTEND:20260503T170000
SUMMARY:H.A.D. Douvrin — Bourse Collections
DESCRIPTION:Accès rapide Restaurant scolaire Cinéma Photos Centres de Loi
 sirs My Perischool Borne à selfie Démarches en ligne Location de salles A
 utorisation d’Urbanisme Carte d’identité / Passeport Réservation Cant
 ine Recensement Citoyen Inscription listes électorales Location de salles 
 Carte d’identité / Passeport Autorisation d’Urbanisme Réservation Can
 tine Recensement Citoyen Inscription listes électorale
LOCATION:62138 Douvrin
URL:https://bradeur.fr/braderie.php?slug=h-a-d-douvrin-bourse-collections
END:VEVENT
END:VCALENDAR
