BEGIN:VCALENDAR
VERSION:2.0
PRODID:-//Bradeur.fr//FR
CALSCALE:GREGORIAN
METHOD:PUBLISH
BEGIN:VEVENT
UID:767-hainaut-collection-brocante@bradeur.fr
DTSTAMP:20260426T022151Z
DTSTART:20260501T070000
DTEND:20260501T150000
SUMMARY:Hainaut Collection — Brocante
DESCRIPTION:Vendredi 1 Mai 2026\nde 7h00 à 15h00\n\nHainaut Collection\n59
 230 Saint Amand Les Eaux
LOCATION:59230 Saint Amand Les Eaux
URL:https://bradeur.fr/braderie.php?slug=hainaut-collection-brocante
END:VEVENT
END:VCALENDAR
