BEGIN:VCALENDAR
VERSION:2.0
PRODID:-//Bradeur.fr//FR
CALSCALE:GREGORIAN
METHOD:PUBLISH
BEGIN:VEVENT
UID:983-harmonie-avenir-de-burbure-puces-1@bradeur.fr
DTSTAMP:20260425T235716Z
DTSTART:20260627T080000
DTEND:20260627T160000
SUMMARY:Harmonie Avenir de Burbure — Puces
DESCRIPTION:Samedi 27 Juin 2026\nde 8h00 à 16h00\n\nHarmonie Avenir de Bur
 bure\n62151 Burbure
LOCATION:62151 Burbure
URL:https://bradeur.fr/braderie.php?slug=harmonie-avenir-de-burbure-puces-1
END:VEVENT
END:VCALENDAR
