BEGIN:VCALENDAR
VERSION:2.0
PRODID:-//Bradeur.fr//FR
CALSCALE:GREGORIAN
METHOD:PUBLISH
BEGIN:VEVENT
UID:1074-harmonie-avenir-de-burbure-puces-2@bradeur.fr
DTSTAMP:20260425T220946Z
DTSTART:20260913T080000
DTEND:20260913T140000
SUMMARY:Harmonie Avenir de Burbure — Puces
DESCRIPTION:Dimanche 13 Septembre 2026\nde 8h00 à 14h00\n\nHarmonie Avenir
  de Burbure\n62151 Burbure
LOCATION:62151 Burbure
URL:https://bradeur.fr/braderie.php?slug=harmonie-avenir-de-burbure-puces-2
END:VEVENT
END:VCALENDAR
