BEGIN:VCALENDAR
VERSION:2.0
PRODID:-//Bradeur.fr//FR
CALSCALE:GREGORIAN
METHOD:PUBLISH
BEGIN:VEVENT
UID:576-hecq-s-elance-hecq-selance-enfant@bradeur.fr
DTSTAMP:20260425T180717Z
DTSTART:20260329T090000
DTEND:20260329T170000
SUMMARY:Hecq s'Elance — Hecq Selance Enfant
DESCRIPTION:Dimanche 29 Mars 2026\nde 9h00 à 17h00\n\nHecq s'Elance\n59530
  Hecq
LOCATION:59530 Hecq
URL:https://bradeur.fr/braderie.php?slug=hecq-s-elance-hecq-selance-enfant
END:VEVENT
END:VCALENDAR
