BEGIN:VCALENDAR
VERSION:2.0
PRODID:-//Bradeur.fr//FR
CALSCALE:GREGORIAN
METHOD:PUBLISH
BEGIN:VEVENT
UID:665-hennequin-gerard-wanadoo-fr-bourse-collections@bradeur.fr
DTSTAMP:20260425T205235Z
DTSTART:20260412T090000
DTEND:20260412T170000
SUMMARY:hennequin.Gerard@wanadoo.fr — Bourse Collections
DESCRIPTION:Dimanche 12 Avril 2026\nde 9h00 à 17h00\n\nhennequin.Gerard@wa
 nadoo.fr\n59400 Cambrai
LOCATION:59400 Cambrai
URL:https://bradeur.fr/braderie.php?slug=hennequin-gerard-wanadoo-fr-bourse
 -collections
END:VEVENT
END:VCALENDAR
