BEGIN:VCALENDAR
VERSION:2.0
PRODID:-//Bradeur.fr//FR
CALSCALE:GREGORIAN
METHOD:PUBLISH
BEGIN:VEVENT
UID:580-hmma-disque-cd-dvd-a-douvrin@bradeur.fr
DTSTAMP:20260425T180133Z
DTSTART:20260329T100000
DTEND:20260329T180000
SUMMARY:Hmma Disque Cd Dvd à Douvrin
DESCRIPTION:Le BIER FEEST revient à DOUVRIN 5 ème EDITION  Les  Samedi 
 28 et Dimanche 29 MARS 2026  ! DOUVRIN(62\n\nDimanche 29 Mars 2026\nde 10h
 00 à 18h00\n\nBIER FEEST\n62138 Douvrin
LOCATION:62138 Douvrin
URL:https://bradeur.fr/braderie.php?slug=hmma-disque-cd-dvd-a-douvrin
END:VEVENT
END:VCALENDAR
