BEGIN:VCALENDAR
VERSION:2.0
PRODID:-//Bradeur.fr//FR
CALSCALE:GREGORIAN
METHOD:PUBLISH
BEGIN:VEVENT
UID:619-hobby-club-32-0-9-380-45-05-brocante@bradeur.fr
DTSTAMP:20260425T210518Z
DTSTART:20260405T093000
DTEND:20260405T180000
SUMMARY:Hobby Club +32(0)9 380 45 05 — Brocante
DESCRIPTION:Dimanche 5 Avril 2026\nde 9h30 à 18h00\n\nHobby Club +32(0)9 3
 80 45 05\nBredene
LOCATION:Bredene
URL:https://bradeur.fr/braderie.php?slug=hobby-club-32-0-9-380-45-05-brocan
 te
END:VEVENT
END:VCALENDAR
