BEGIN:VCALENDAR
VERSION:2.0
PRODID:-//Bradeur.fr//FR
CALSCALE:GREGORIAN
METHOD:PUBLISH
BEGIN:VEVENT
UID:1003-hobby-club-32-0-9-380-45-05-brocante-10@bradeur.fr
DTSTAMP:20260426T000811Z
DTSTART:20260705T090000
DTEND:20260705T170000
SUMMARY:Hobby Club +32(0)9 380 45 05 — Brocante
DESCRIPTION:Officiële site van lokaal bestuur Maldegem met nieuws, informa
 tie over de diensten en een digitaal loket.\n\nDimanche 5 Juillet 2026\nde 
 9h00 à 17h00\n\nHobby Club +32(0)9 380 45 05\nMiddelburg
LOCATION:Middelburg
URL:https://bradeur.fr/braderie.php?slug=hobby-club-32-0-9-380-45-05-brocan
 te-10
END:VEVENT
END:VCALENDAR
