BEGIN:VCALENDAR
VERSION:2.0
PRODID:-//Bradeur.fr//FR
CALSCALE:GREGORIAN
METHOD:PUBLISH
BEGIN:VEVENT
UID:1006-hobby-club-32-0-9-380-45-05-brocante-11@bradeur.fr
DTSTAMP:20260426T000033Z
DTSTART:20260711T090000
DTEND:20260711T170000
SUMMARY:Hobby Club +32(0)9 380 45 05 — Brocante
DESCRIPTION:Officiële site van de gemeente Merelbeke-Melle met nieuws, inf
 ormatie en een digitaal loket.\n\nSamedi 11 Juillet 2026\nde 9h00 à 17h00\
 n\nHobby Club +32(0)9 380 45 05\nMerelbeke
LOCATION:Merelbeke
URL:https://bradeur.fr/braderie.php?slug=hobby-club-32-0-9-380-45-05-brocan
 te-11
END:VEVENT
END:VCALENDAR
