BEGIN:VCALENDAR
VERSION:2.0
PRODID:-//Bradeur.fr//FR
CALSCALE:GREGORIAN
METHOD:PUBLISH
BEGIN:VEVENT
UID:1016-hobby-club-32-0-9-380-45-05-brocante-12@bradeur.fr
DTSTAMP:20260426T001208Z
DTSTART:20260718T090000
DTEND:20260718T170000
SUMMARY:Hobby Club +32(0)9 380 45 05 — Brocante
DESCRIPTION:Samedi 18 Juillet 2026\nde 9h00 à 17h00\n\nHobby Club +32(0)9 
 380 45 05\nDentergem
LOCATION:Dentergem
URL:https://bradeur.fr/braderie.php?slug=hobby-club-32-0-9-380-45-05-brocan
 te-12
END:VEVENT
END:VCALENDAR
