BEGIN:VCALENDAR
VERSION:2.0
PRODID:-//Bradeur.fr//FR
CALSCALE:GREGORIAN
METHOD:PUBLISH
BEGIN:VEVENT
UID:1020-hobby-club-32-0-9-380-45-05-brocante-13@bradeur.fr
DTSTAMP:20260426T000913Z
DTSTART:20260721T090000
DTEND:20260721T170000
SUMMARY:Hobby Club +32(0)9 380 45 05 — Brocante
DESCRIPTION:Welkom op de officiële website van stad Waregem, stad in galop
 . Ontdek alle info over onze diensten, het recentste nieuws en evenementen 
 voor jong en oud.\n\nMardi 21 Juillet 2026\nde 9h00 à 17h00\n\nHobby Club 
 +32(0)9 380 45 05\nSint Eloois Vijve
LOCATION:Sint Eloois Vijve
URL:https://bradeur.fr/braderie.php?slug=hobby-club-32-0-9-380-45-05-brocan
 te-13
END:VEVENT
END:VCALENDAR
