BEGIN:VCALENDAR
VERSION:2.0
PRODID:-//Bradeur.fr//FR
CALSCALE:GREGORIAN
METHOD:PUBLISH
BEGIN:VEVENT
UID:1047-hobby-club-32-0-9-380-45-05-brocante-14@bradeur.fr
DTSTAMP:20260425T210709Z
DTSTART:20260815T060000
DTEND:20260815T180000
SUMMARY:Hobby Club +32(0)9 380 45 05 — Brocante
DESCRIPTION:Officiële site van de stad Deinze met nieuws, activiteitenkale
 nder, informatie over de diensten en een e-loket.\n\nSamedi 15 Août 2026\n
 de 6h00 à 18h00\n\nHobby Club +32(0)9 380 45 05\nGrammene
LOCATION:Grammene
URL:https://bradeur.fr/braderie.php?slug=hobby-club-32-0-9-380-45-05-brocan
 te-14
END:VEVENT
END:VCALENDAR
