BEGIN:VCALENDAR
VERSION:2.0
PRODID:-//Bradeur.fr//FR
CALSCALE:GREGORIAN
METHOD:PUBLISH
BEGIN:VEVENT
UID:1055-hobby-club-32-0-9-380-45-05-brocante-15@bradeur.fr
DTSTAMP:20260425T210847Z
DTSTART:20260823T090000
DTEND:20260823T170000
SUMMARY:Hobby Club +32(0)9 380 45 05 — Brocante
DESCRIPTION:Dimanche 23 Août 2026\nde 9h00 à 17h00\n\nHobby Club +32(0)9 
 380 45 05\nHarelbeke
LOCATION:Harelbeke
URL:https://bradeur.fr/braderie.php?slug=hobby-club-32-0-9-380-45-05-brocan
 te-15
END:VEVENT
END:VCALENDAR
