BEGIN:VCALENDAR
VERSION:2.0
PRODID:-//Bradeur.fr//FR
CALSCALE:GREGORIAN
METHOD:PUBLISH
BEGIN:VEVENT
UID:1075-hobby-club-32-0-9-380-45-05-brocante-17@bradeur.fr
DTSTAMP:20260425T210822Z
DTSTART:20260913T080000
DTEND:20260913T140000
SUMMARY:Hobby Club +32(0)9 380 45 05 — Brocante
DESCRIPTION:Welkom op de officiële website van Stad Kortrijk. Ontdek wat e
 r leeft in onze bruisende stad, voor jong en oud, Kortrijkzaan of niet-Kort
 rijkzaan.\n\nDimanche 13 Septembre 2026\nde 8h00 à 14h00\n\nHobby Club +32
 (0)9 380 45 05\nKortrijk
LOCATION:Kortrijk
URL:https://bradeur.fr/braderie.php?slug=hobby-club-32-0-9-380-45-05-brocan
 te-17
END:VEVENT
END:VCALENDAR
