BEGIN:VCALENDAR
VERSION:2.0
PRODID:-//Bradeur.fr//FR
CALSCALE:GREGORIAN
METHOD:PUBLISH
BEGIN:VEVENT
UID:1083-hobby-club-32-0-9-380-45-05-brocante-18@bradeur.fr
DTSTAMP:20260425T210746Z
DTSTART:20260920T090000
DTEND:20260920T170000
SUMMARY:Hobby Club +32(0)9 380 45 05 — Brocante
DESCRIPTION:Officiële site van de gemeente met nieuws, informatie over de 
 diensten en een digitaal loket.\n\nDimanche 20 Septembre 2026\nde 9h00 à 1
 7h00\n\nHobby Club +32(0)9 380 45 05\nSint Lievens Houtem
LOCATION:Sint Lievens Houtem
URL:https://bradeur.fr/braderie.php?slug=hobby-club-32-0-9-380-45-05-brocan
 te-18
END:VEVENT
END:VCALENDAR
