BEGIN:VCALENDAR
VERSION:2.0
PRODID:-//Bradeur.fr//FR
CALSCALE:GREGORIAN
METHOD:PUBLISH
BEGIN:VEVENT
UID:701-hobby-club-32-0-9-380-45-05-brocante-2@bradeur.fr
DTSTAMP:20260426T000320Z
DTSTART:20260418T090000
DTEND:20260418T180000
SUMMARY:Hobby Club +32(0)9 380 45 05 — Brocante
DESCRIPTION:Officiële site van de gemeente De Haan met nieuws, informatie 
 over de diensten en een digitaal loket.\n\nSamedi 18 Avril 2026\nde 9h00 à
  18h00\n\nHobby Club +32(0)9 380 45 05\nDe Haan
LOCATION:De Haan
URL:https://bradeur.fr/braderie.php?slug=hobby-club-32-0-9-380-45-05-brocan
 te-2
END:VEVENT
END:VCALENDAR
