BEGIN:VCALENDAR
VERSION:2.0
PRODID:-//Bradeur.fr//FR
CALSCALE:GREGORIAN
METHOD:PUBLISH
BEGIN:VEVENT
UID:1105-hobby-club-32-0-9-380-45-05-brocante-20@bradeur.fr
DTSTAMP:20260425T180857Z
DTSTART:20261004T090000
DTEND:20261004T170000
SUMMARY:Hobby Club +32(0)9 380 45 05 — Brocante
DESCRIPTION:Welkom op de officiële website van stad Waregem, stad in galop
 . Ontdek alle info over onze diensten, het recentste nieuws en evenementen 
 voor jong en oud.\n\nDimanche 4 Octobre 2026\nde 9h00 à 17h00\n\nHobby Clu
 b +32(0)9 380 45 05\nWaregem
LOCATION:Waregem
URL:https://bradeur.fr/braderie.php?slug=hobby-club-32-0-9-380-45-05-brocan
 te-20
END:VEVENT
END:VCALENDAR
