BEGIN:VCALENDAR
VERSION:2.0
PRODID:-//Bradeur.fr//FR
CALSCALE:GREGORIAN
METHOD:PUBLISH
BEGIN:VEVENT
UID:1115-hobby-club-32-0-9-380-45-05-brocante-21@bradeur.fr
DTSTAMP:20260425T180857Z
DTSTART:20261011T093000
DTEND:20261011T180000
SUMMARY:Hobby Club +32(0)9 380 45 05 — Brocante
DESCRIPTION:Officiële site van de gemeente Merelbeke-Melle met nieuws, inf
 ormatie en een digitaal loket.\n\nDimanche 11 Octobre 2026\nde 9h30 à 18h0
 0\n\nHobby Club +32(0)9 380 45 05\nMerelbeke
LOCATION:Merelbeke
URL:https://bradeur.fr/braderie.php?slug=hobby-club-32-0-9-380-45-05-brocan
 te-21
END:VEVENT
END:VCALENDAR
