BEGIN:VCALENDAR
VERSION:2.0
PRODID:-//Bradeur.fr//FR
CALSCALE:GREGORIAN
METHOD:PUBLISH
BEGIN:VEVENT
UID:1122-hobby-club-32-0-9-380-45-05-brocante-22@bradeur.fr
DTSTAMP:20260425T181004Z
DTSTART:20261031T093000
DTEND:20261031T180000
SUMMARY:Hobby Club +32(0)9 380 45 05 — Brocante
DESCRIPTION:Samedi 31 Octobre 2026\nde 9h30 à 18h00\n\nHobby Club +32(0)9 
 380 45 05\nBredene
LOCATION:Bredene
URL:https://bradeur.fr/braderie.php?slug=hobby-club-32-0-9-380-45-05-brocan
 te-22
END:VEVENT
END:VCALENDAR
