BEGIN:VCALENDAR
VERSION:2.0
PRODID:-//Bradeur.fr//FR
CALSCALE:GREGORIAN
METHOD:PUBLISH
BEGIN:VEVENT
UID:1134-hobby-club-32-0-9-380-45-05-brocante-23@bradeur.fr
DTSTAMP:20260425T180857Z
DTSTART:20261111T093000
DTEND:20261111T180000
SUMMARY:Hobby Club +32(0)9 380 45 05 — Brocante
DESCRIPTION:Mercredi 11 Novembre 2026\nde 9h30 à 18h00\n\nHobby Club +32(0
 )9 380 45 05\nTielt
LOCATION:Tielt
URL:https://bradeur.fr/braderie.php?slug=hobby-club-32-0-9-380-45-05-brocan
 te-23
END:VEVENT
END:VCALENDAR
