BEGIN:VCALENDAR
VERSION:2.0
PRODID:-//Bradeur.fr//FR
CALSCALE:GREGORIAN
METHOD:PUBLISH
BEGIN:VEVENT
UID:755-hobby-club-32-0-9-380-45-05-brocante-3@bradeur.fr
DTSTAMP:20260426T023038Z
DTSTART:20260426T090000
DTEND:20260426T170000
SUMMARY:Hobby Club +32(0)9 380 45 05 — Brocante
DESCRIPTION:Bezoek ieper.be voor alle officiële informatie over de stad Ie
 per: nieuws, evenementen, dienstverlening en contactgegevens.\n\nDimanche 2
 6 Avril 2026\nde 9h00 à 17h00\n\nHobby Club +32(0)9 380 45 05\nLeper
LOCATION:Leper
URL:https://bradeur.fr/braderie.php?slug=hobby-club-32-0-9-380-45-05-brocan
 te-3
END:VEVENT
END:VCALENDAR
