BEGIN:VCALENDAR
VERSION:2.0
PRODID:-//Bradeur.fr//FR
CALSCALE:GREGORIAN
METHOD:PUBLISH
BEGIN:VEVENT
UID:996-hobby-club-32-0-9-380-45-05-brocante-9@bradeur.fr
DTSTAMP:20260426T000401Z
DTSTART:20260704T090000
DTEND:20260704T170000
SUMMARY:Hobby Club +32(0)9 380 45 05 — Brocante
DESCRIPTION:Samedi 4 Juillet 2026\nde 9h00 à 17h00\n\nHobby Club +32(0)9 3
 80 45 05\nBredene
LOCATION:Bredene
URL:https://bradeur.fr/braderie.php?slug=hobby-club-32-0-9-380-45-05-brocan
 te-9
END:VEVENT
END:VCALENDAR
