BEGIN:VCALENDAR
VERSION:2.0
PRODID:-//Bradeur.fr//FR
CALSCALE:GREGORIAN
METHOD:PUBLISH
BEGIN:VEVENT
UID:530-hobby-club-32-0-9-380-45-05-hobby13-1@bradeur.fr
DTSTAMP:20260425T180858Z
DTSTART:20260322T093000
DTEND:20260322T180000
SUMMARY:Hobby Club +32(0)9 380 45 05 — Hobby13
DESCRIPTION:Officiële site van de gemeente Merelbeke-Melle met nieuws, inf
 ormatie en een digitaal loket.\n\nDimanche 22 Mars 2026\nde 9h30 à 18h00\n
 \nHobby Club +32(0)9 380 45 05\nMerelbeke
LOCATION:Merelbeke
URL:https://bradeur.fr/braderie.php?slug=hobby-club-32-0-9-380-45-05-hobby1
 3-1
END:VEVENT
END:VCALENDAR
