BEGIN:VCALENDAR
VERSION:2.0
PRODID:-//Bradeur.fr//FR
CALSCALE:GREGORIAN
METHOD:PUBLISH
BEGIN:VEVENT
UID:549-hobby-club-32-0-9-380-45-05-hobby13-2@bradeur.fr
DTSTAMP:20260425T180846Z
DTSTART:20260328T093000
DTEND:20260329T180000
SUMMARY:Hobby Club +32(0)9 380 45 05 — Hobby13
DESCRIPTION:Samedi 28 Mars 2026\nde 9h30 à 18h00\n\nDimanche 29 Mars 2026\
 nde 9h30 à 18h00\n\nHobby Club +32(0)9 380 45 05\nRoeselare
LOCATION:Roeselare
URL:https://bradeur.fr/braderie.php?slug=hobby-club-32-0-9-380-45-05-hobby1
 3-2
END:VEVENT
END:VCALENDAR
