BEGIN:VCALENDAR
VERSION:2.0
PRODID:-//Bradeur.fr//FR
CALSCALE:GREGORIAN
METHOD:PUBLISH
BEGIN:VEVENT
UID:620-hobby-club-32-0-9-380-45-05-hobby13-3@bradeur.fr
DTSTAMP:20260425T180846Z
DTSTART:20260405T093000
DTEND:20260405T180000
SUMMARY:Hobby Club +32(0)9 380 45 05 — Hobby13
DESCRIPTION:Officiële site van de stad Deinze met nieuws, activiteitenkale
 nder, informatie over de diensten en een e-loket.\n\nDimanche 5 Avril 2026\
 nde 9h30 à 18h00\n\nHobby Club +32(0)9 380 45 05\nDeinze
LOCATION:Deinze
URL:https://bradeur.fr/braderie.php?slug=hobby-club-32-0-9-380-45-05-hobby1
 3-3
END:VEVENT
END:VCALENDAR
