BEGIN:VCALENDAR
VERSION:2.0
PRODID:-//Bradeur.fr//FR
CALSCALE:GREGORIAN
METHOD:PUBLISH
BEGIN:VEVENT
UID:1119-hobby-club-32-0-9-380-45-05-hobby13-4@bradeur.fr
DTSTAMP:20260425T181333Z
DTSTART:20261018T093000
DTEND:20261018T180000
SUMMARY:Hobby Club +32(0)9 380 45 05 — Hobby13
DESCRIPTION:Officiële website van stad en OCMW Sint-Niklaas. Hier vind je 
 alle info over onze diensten en producten, het laatste nieuws van de stad e
 n doorverwijzingen naar nuttige info van partners.\n\nDimanche 18 Octobre 2
 026\nde 9h30 à 18h00\n\nHobby Club +32(0)9 380 45 05\nSint Niklaas
LOCATION:Sint Niklaas
URL:https://bradeur.fr/braderie.php?slug=hobby-club-32-0-9-380-45-05-hobby1
 3-4
END:VEVENT
END:VCALENDAR
