BEGIN:VCALENDAR
VERSION:2.0
PRODID:-//Bradeur.fr//FR
CALSCALE:GREGORIAN
METHOD:PUBLISH
BEGIN:VEVENT
UID:1130-hobby-club-32-0-9-380-45-05-hobby13-6@bradeur.fr
DTSTAMP:20260425T180858Z
DTSTART:20261106T093000
DTEND:20261108T180000
SUMMARY:Hobby Club +32(0)9 380 45 05 — Hobby13
DESCRIPTION:Officiële site van de stad Deinze met nieuws, activiteitenkale
 nder, informatie over de diensten en een e-loket.\n\nVendredi 6 Novembre 20
 26\nde 9h30 à 18h00\n\nSamedi 7 Novembre 2026\nde 9h30 à 18h00\n\nDimanch
 e 8 Novembre 2026\nde 14h30 à 19h00\n\nHobby Club +32(0)9 380 45 05\nDeinz
 e
LOCATION:Deinze
URL:https://bradeur.fr/braderie.php?slug=hobby-club-32-0-9-380-45-05-hobby1
 3-6
END:VEVENT
END:VCALENDAR
