BEGIN:VCALENDAR
VERSION:2.0
PRODID:-//Bradeur.fr//FR
CALSCALE:GREGORIAN
METHOD:PUBLISH
BEGIN:VEVENT
UID:1148-hobby-club-32-0-9-380-45-05-hobby13-7@bradeur.fr
DTSTAMP:20260425T180846Z
DTSTART:20261220T093000
DTEND:20261220T180000
SUMMARY:Hobby Club +32(0)9 380 45 05 — Hobby13
DESCRIPTION:Dimanche 20 Décembre 2026\nde 9h30 à 18h00\n\nHobby Club +32(
 0)9 380 45 05\nZeebruges
LOCATION:Zeebruges
URL:https://bradeur.fr/braderie.php?slug=hobby-club-32-0-9-380-45-05-hobby1
 3-7
END:VEVENT
END:VCALENDAR
