BEGIN:VCALENDAR
VERSION:2.0
PRODID:-//Bradeur.fr//FR
CALSCALE:GREGORIAN
METHOD:PUBLISH
BEGIN:VEVENT
UID:1026-hobby-club-32-0-9-380-45-05-hobby13-disk@bradeur.fr
DTSTAMP:20260425T200040Z
DTSTART:20260726T093000
DTEND:20260726T170000
SUMMARY:Hobby Club +32(0)9 380 45 05 — Hobby13 Disk
DESCRIPTION:Dimanche 26 Juillet 2026\nde 9h30 à 17h00\n\nHobby Club +32(0)
 9 380 45 05\nLa Panne
LOCATION:La Panne
URL:https://bradeur.fr/braderie.php?slug=hobby-club-32-0-9-380-45-05-hobby1
 3-disk
END:VEVENT
END:VCALENDAR
