BEGIN:VCALENDAR
VERSION:2.0
PRODID:-//Bradeur.fr//FR
CALSCALE:GREGORIAN
METHOD:PUBLISH
BEGIN:VEVENT
UID:766-iwuy-cyclotourisme-brocante@bradeur.fr
DTSTAMP:20260425T235312Z
DTSTART:20260501T080000
DTEND:20260501T170000
SUMMARY:Iwuy cyclotourisme — Brocante
DESCRIPTION:Bienvenue sur le site officiel du club iwuy cyclotourisme . Ret
 rouvez toute l'actualité, le calendrier et les résultats des équipes, ai
 nsi que toute la vie du club.\n\nVendredi 1 Mai 2026\nde 8h00 à 17h00\n\nI
 wuy cyclotourisme\n59141 Iwuy
LOCATION:59141 Iwuy
URL:https://bradeur.fr/braderie.php?slug=iwuy-cyclotourisme-brocante
END:VEVENT
END:VCALENDAR
