BEGIN:VCALENDAR
VERSION:2.0
PRODID:-//Bradeur.fr//FR
CALSCALE:GREGORIAN
METHOD:PUBLISH
BEGIN:VEVENT
UID:629-j-a-brocante@bradeur.fr
DTSTAMP:20260425T204412Z
DTSTART:20260406T080000
DTEND:20260406T180000
SUMMARY:J.A. — Brocante
DESCRIPTION:Lundi 6 Avril 2026\nde 8h00 à 18h00\n\nJ.A.\n62830 Samer
LOCATION:62830 Samer
URL:https://bradeur.fr/braderie.php?slug=j-a-brocante
END:VEVENT
END:VCALENDAR
