BEGIN:VCALENDAR
VERSION:2.0
PRODID:-//Bradeur.fr//FR
CALSCALE:GREGORIAN
METHOD:PUBLISH
BEGIN:VEVENT
UID:632-je-couds-je-maille-couture-a-la-bassee@bradeur.fr
DTSTAMP:20260425T180554Z
DTSTART:20260411T100000
DTEND:20260411T173000
SUMMARY:Je Couds Je Maille Couture à La Bassee
DESCRIPTION:Samedi 11 Avril 2026\nde 10h00 à 17h30\n\n59480 La Bassee
LOCATION:59480 La Bassee
URL:https://bradeur.fr/braderie.php?slug=je-couds-je-maille-couture-a-la-ba
 ssee
END:VEVENT
END:VCALENDAR
