BEGIN:VCALENDAR
VERSION:2.0
PRODID:-//Bradeur.fr//FR
CALSCALE:GREGORIAN
METHOD:PUBLISH
BEGIN:VEVENT
UID:717-ju-jutsu-traditionnel-arques-brocante@bradeur.fr
DTSTAMP:20260425T224802Z
DTSTART:20260419T080000
DTEND:20260419T170000
SUMMARY:Ju-jutsu Traditionnel Arques — Brocante
DESCRIPTION:Dimanche 19 Avril 2026\nde 8h00 à 17h00\n\nJu-jutsu Traditionn
 el Arques\n62510 Arques
LOCATION:62510 Arques
URL:https://bradeur.fr/braderie.php?slug=ju-jutsu-traditionnel-arques-broca
 nte
END:VEVENT
END:VCALENDAR
