BEGIN:VCALENDAR
VERSION:2.0
PRODID:-//Bradeur.fr//FR
CALSCALE:GREGORIAN
METHOD:PUBLISH
BEGIN:VEVENT
UID:864-judo-club-braderie@bradeur.fr
DTSTAMP:20260426T032609Z
DTSTART:20260516T080000
DTEND:20260516T160000
SUMMARY:Judo Club — Braderie
DESCRIPTION:Samedi 16 Mai 2026\nde 8h00 à 16h00\n\nJudo Club\n62880 Pont A
  Vendin
LOCATION:62880 Pont A Vendin
URL:https://bradeur.fr/braderie.php?slug=judo-club-braderie
END:VEVENT
END:VCALENDAR
