BEGIN:VCALENDAR
VERSION:2.0
PRODID:-//Bradeur.fr//FR
CALSCALE:GREGORIAN
METHOD:PUBLISH
BEGIN:VEVENT
UID:504-la-classe-en-nord-vide-greniers@bradeur.fr
DTSTAMP:20260425T180554Z
DTSTART:20260315T080000
DTEND:20260315T150000
SUMMARY:La classe en Nord — Vide-greniers
DESCRIPTION:Bienvenue sur le site officiel de la ville de Liévin : démarc
 hes en ligne, événements et actualités.\n\nDimanche 15 Mars 2026\nde 8h0
 0 à 15h00\n\nLa classe en Nord\n62800 Lievin
LOCATION:62800 Lievin
URL:https://bradeur.fr/braderie.php?slug=la-classe-en-nord-vide-greniers
END:VEVENT
END:VCALENDAR
