BEGIN:VCALENDAR
VERSION:2.0
PRODID:-//Bradeur.fr//FR
CALSCALE:GREGORIAN
METHOD:PUBLISH
BEGIN:VEVENT
UID:1098-la-conviviale-enfant-a-guemappe@bradeur.fr
DTSTAMP:20260425T180318Z
DTSTART:20261003T130000
DTEND:20261003T180000
SUMMARY:La Conviviale Enfant à Guemappe
DESCRIPTION:Samedi 3 Octobre 2026\nde 13h00 à 18h00\n\n62128 Guemappe
LOCATION:62128 Guemappe
URL:https://bradeur.fr/braderie.php?slug=la-conviviale-enfant-a-guemappe
END:VEVENT
END:VCALENDAR
