BEGIN:VCALENDAR
VERSION:2.0
PRODID:-//Bradeur.fr//FR
CALSCALE:GREGORIAN
METHOD:PUBLISH
BEGIN:VEVENT
UID:1093-la-famille-querenaingeoise-brocante@bradeur.fr
DTSTAMP:20260425T180712Z
DTSTART:20260927T080000
DTEND:20260927T160000
SUMMARY:La Famille Quérénaingeoise — Brocante
DESCRIPTION:Dimanche 27 Septembre 2026\nde 8h00 à 16h00\n\nLa Famille Qué
 rénaingeoise\n59269 Querenaing
LOCATION:59269 Querenaing
URL:https://bradeur.fr/braderie.php?slug=la-famille-querenaingeoise-brocant
 e
END:VEVENT
END:VCALENDAR
