BEGIN:VCALENDAR
VERSION:2.0
PRODID:-//Bradeur.fr//FR
CALSCALE:GREGORIAN
METHOD:PUBLISH
BEGIN:VEVENT
UID:1042-la-mairie-d-hesdin-brocante@bradeur.fr
DTSTAMP:20260425T210222Z
DTSTART:20260809T080000
DTEND:20260809T180000
SUMMARY:la mairie d'Hesdin — Brocante
DESCRIPTION:Hesdin-la-Forêt Contact Cliquez ici pour signaler facilement u
 n problème de voirie ou un équipement défectueux Accéder Police Municip
 ale cliquez ici pour contacter les agents de la Police Municipale Accéder 
 Évènements à venir​ 🌳 Engagement, proximité et ambition seront les
  maîtres-mots de ce mandat. Merci à toutes et à tous pour votre confianc
 e. Au travail, pour […]\n\nDimanche 9 Août 2026\nde 8h00 à
LOCATION:62140 Hesdin La Forêt
URL:https://bradeur.fr/braderie.php?slug=la-mairie-d-hesdin-brocante
END:VEVENT
END:VCALENDAR
